BEGIN:VCALENDAR
VERSION:2.0
PRODID:-//Elevation Cheer Co. - ECPv6.15.20//NONSGML v1.0//EN
CALSCALE:GREGORIAN
METHOD:PUBLISH
X-ORIGINAL-URL:https://elevationcheerco.com
X-WR-CALDESC:Events for Elevation Cheer Co.
REFRESH-INTERVAL;VALUE=DURATION:PT1H
X-Robots-Tag:noindex
X-PUBLISHED-TTL:PT1H
BEGIN:VTIMEZONE
TZID:UTC
BEGIN:STANDARD
TZOFFSETFROM:+0000
TZOFFSETTO:+0000
TZNAME:UTC
DTSTART:20250101T000000
END:STANDARD
END:VTIMEZONE
BEGIN:VEVENT
DTSTART;TZID=UTC:20260720T090000
DTEND;TZID=UTC:20260723T120000
DTSTAMP:20260421T192726
CREATED:20260401T190709Z
LAST-MODIFIED:20260401T190713Z
UID:10000076-1784538000-1784808000@elevationcheerco.com
SUMMARY:Tumble Camp-Disney
DESCRIPTION:Looking to master a new tumbling skill? This 4-day camp\, open to rising 2nd graders and up\, will offer your athlete lots of repetition while focusing on developing technique\, strength and body control needed to perform those skills. Campers need to bring a snack! \nActivities Include-\n-Stations\n-Drills\n-Conditioning\n-Crafts\n-and lots more! \n  \n 
URL:https://elevationcheerco.com/event/tumble-camp-disney/
CATEGORIES:Summer Camps
ATTACH;FMTTYPE=image/png:https://elevationcheerco.com/wp-content/uploads/2026/04/Disney-Tumble-Camp.png
END:VEVENT
BEGIN:VEVENT
DTSTART;TZID=UTC:20260727T090000
DTEND;TZID=UTC:20260730T120000
DTSTAMP:20260421T192726
CREATED:20260401T185426Z
LAST-MODIFIED:20260401T185430Z
UID:10000073-1785142800-1785412800@elevationcheerco.com
SUMMARY:Fun & Fitness Camp-Olympics
DESCRIPTION:Join us as we embark on a on journey of fun and fitness!! Designed for boys and girls ages 7 and up\, our camp offers an exciting array of activities to keep your kids active\, engaged\, and smiling from ear to ear. \nActivities Include-\n-Contests\n-Relay Races\n-Games\n-Crafts\n-and lots more! \n  \n 
URL:https://elevationcheerco.com/event/fun-fitness-camp-olympics/
CATEGORIES:Summer Camps
ATTACH;FMTTYPE=image/png:https://elevationcheerco.com/wp-content/uploads/2026/04/Olympics-FF-Camp.png
END:VEVENT
END:VCALENDAR