BEGIN:VCALENDAR
VERSION:2.0
PRODID:-//Elevation Cheer Co. - ECPv6.15.20//NONSGML v1.0//EN
CALSCALE:GREGORIAN
METHOD:PUBLISH
X-ORIGINAL-URL:https://elevationcheerco.com
X-WR-CALDESC:Events for Elevation Cheer Co.
REFRESH-INTERVAL;VALUE=DURATION:PT1H
X-Robots-Tag:noindex
X-PUBLISHED-TTL:PT1H
BEGIN:VTIMEZONE
TZID:UTC
BEGIN:STANDARD
TZOFFSETFROM:+0000
TZOFFSETTO:+0000
TZNAME:UTC
DTSTART:20250101T000000
END:STANDARD
END:VTIMEZONE
BEGIN:VEVENT
DTSTART;TZID=UTC:20260601T000000
DTEND;TZID=UTC:20260730T000000
DTSTAMP:20260421T120336
CREATED:20260402T151057Z
LAST-MODIFIED:20260402T151103Z
UID:10000077-1780272000-1785369600@elevationcheerco.com
SUMMARY:Tiny Tots-2 & 3 Year Olds
DESCRIPTION:Over the summer we offer our Little Explorers Gymnastics classes to fit everyone's schedule! You will choose to have your child to attend 6\, 7 or 8 classes over the course of the summer. When registering\, you will sign up for the dates and times your child plans to attend. \nThis parent-participation class helps our youngest athletes explore movement\, coordination\, and balance through fun obstacle courses\, games\, and basic gymnastics skills. It’s a wonderful bonding experience that builds confidence and body awareness. \nEarly Registration Pricing through April 17th\n6 classes- $115.50\n7 classes- $134.74\n8 classes- $154.00 \nRegular Pricing starting April 18th\n6 classes- $133.50\n7 classes- $155.75\n8 classes- $178.00 \n  \n 
URL:https://elevationcheerco.com/event/tiny-tots-2-3-year-olds/
CATEGORIES:Summer Classes
ATTACH;FMTTYPE=image/png:https://elevationcheerco.com/wp-content/uploads/2026/04/Tiny-Tots.png
END:VEVENT
BEGIN:VEVENT
DTSTART;TZID=UTC:20260601T000000
DTEND;TZID=UTC:20260730T000000
DTSTAMP:20260421T120336
CREATED:20260402T151433Z
LAST-MODIFIED:20260402T151439Z
UID:10000078-1780272000-1785369600@elevationcheerco.com
SUMMARY:Super & Mighty Tots- 3 & 4 Year Olds
DESCRIPTION:Over the summer we offer our Little Explorers Gymnastics classes to fit everyone's schedule! Our flexi-schedule allows you choose to have your child to attend 6\, 7 or 8 classes over the course of the summer. When registering\, you will sign up for the dates and times your child plans to attend. \nSuper and Mighty Tots learn to follow instructions and build independence while developing balance\, flexibility\, and strength. This class introduces early gymnastics skills through engaging activities that keep little ones active and smiling. \nEarly Registration Pricing through April 17th\n6 classes- $115.50\n7 classes- $134.75\n8 classes- $154.00 \nRegular Pricing starting April 18th\n6 classes- $133.50\n7 classes- $155.75\n8 classes- $178.00 \n  \n 
URL:https://elevationcheerco.com/event/super-mighty-tots-3-4-year-olds/
CATEGORIES:Summer Classes
ATTACH;FMTTYPE=image/png:https://elevationcheerco.com/wp-content/uploads/2026/04/Super-Mighty-Tots.png
END:VEVENT
BEGIN:VEVENT
DTSTART;TZID=UTC:20260601T000000
DTEND;TZID=UTC:20260730T000000
DTSTAMP:20260421T120336
CREATED:20260402T153723Z
LAST-MODIFIED:20260402T153729Z
UID:10000079-1780272000-1785369600@elevationcheerco.com
SUMMARY:Kinderstars- 5 & 6 Year Olds
DESCRIPTION:Over the summer we offer tumbling classes to fit every athlete's schedule! Athletes will choose to attend 6\, 7 or 8 classes over the course of the summer. While registering\, athletes will sign up for the dates and times they plan to attend using our online customer portal. \nKinderstars focus on refining coordination\, control\, and beginner gymnastics techniques. Athletes work on skills like rolls\, bridges\, and handstands while learning to listen\, take turns\, and stay motivated through positive movement and fun challenges \nEarly Registration Pricing through April 17th\n6 classes- $130.50\n7 classes- $152.25\n8 classes- $174.00 \nRegular Pricing starting April 18th\n6 classes- $148.50\n7 classes- $173.25\n8 classes- $198.00 \n  \n 
URL:https://elevationcheerco.com/event/kinderstars-5-6-year-olds/
CATEGORIES:Summer Classes
ATTACH;FMTTYPE=image/png:https://elevationcheerco.com/wp-content/uploads/2026/04/Kinderstars.png
END:VEVENT
BEGIN:VEVENT
DTSTART;TZID=UTC:20260601T000000
DTEND;TZID=UTC:20260730T000000
DTSTAMP:20260421T120336
CREATED:20260402T154343Z
LAST-MODIFIED:20260402T154347Z
UID:10000080-1780272000-1785369600@elevationcheerco.com
SUMMARY:Level 1A-Ages 6 & Up
DESCRIPTION:Over the summer we offer tumbling classes to fit every athlete's schedule! Athletes will choose to attend 6\, 7 or 8 classes over the course of the summer. When registering\, athletes will sign up for the dates and times they plan to attend using our online customer portal. \nDesigned for beginners\, Level 1A introduces the fundamentals of tumbling\, including body control\, strength\, and flexibility. Athletes work on skills like forward and backwards roll\, handstands\, cartwheels\, bridges\, kickovers\, and limber to build a strong foundation. \nEarly Registration Pricing through April 17th\n6 classes- $130.50\n7 classes- $152.50\n8 classes- $174.00 \nRegular Pricing starting April 18th\n6 classes- $148.50\n7 classes- $173.25\n8 classes- $198.00 \n  \n 
URL:https://elevationcheerco.com/event/level-1a-ages-6-up/
CATEGORIES:Summer Classes
ATTACH;FMTTYPE=image/png:https://elevationcheerco.com/wp-content/uploads/2026/04/Level-1A.png
END:VEVENT
BEGIN:VEVENT
DTSTART;TZID=UTC:20260601T000000
DTEND;TZID=UTC:20260730T000000
DTSTAMP:20260421T120336
CREATED:20260402T154606Z
LAST-MODIFIED:20260402T154611Z
UID:10000081-1780272000-1785369600@elevationcheerco.com
SUMMARY:Level 1B-Ages 6 & up
DESCRIPTION:Over the summer we offer tumbling classes to fit every athlete's schedule! Athletes will choose to attend 6\, 7 or 8 classes over the course of the summer. When registering\, athletes will sign up for the dates and times they plan to attend using our online customer portal. \nLevel 1B is for athletes ready to advance their basic tumbling. This class focuses on progression towards walkovers\, back handsprings and roundoff back handsprings while continuing to strengthen coordination and confidence. \nEarly Registration Pricing through April 17th\n6 classes- $130.50\n7 classes- $152.50\n8 classes- $174.00 \nRegular Pricing starting April 18th\n6 classes- $148.50\n7 classes- $173.25\n8 classes- $198.00 \n  \n 
URL:https://elevationcheerco.com/event/level-1b-ages-6-up/
CATEGORIES:Summer Classes
ATTACH;FMTTYPE=image/png:https://elevationcheerco.com/wp-content/uploads/2026/04/Level-1B.png
END:VEVENT
BEGIN:VEVENT
DTSTART;TZID=UTC:20260601T000000
DTEND;TZID=UTC:20260730T000000
DTSTAMP:20260421T120336
CREATED:20260402T155618Z
LAST-MODIFIED:20260402T155623Z
UID:10000082-1780272000-1785369600@elevationcheerco.com
SUMMARY:Level 2
DESCRIPTION:Over the summer we offer tumbling classes to fit every athlete's schedule! Athletes will choose to attend 6\, 7 or 8 classes over the course of the summer. When registering\, athletes will sign up for the dates and times they plan to attend using our online customer portal. \nAthletes in Level 2 work on developing power and precision through skills such as roundoff multiple back handsprings\, and speciality passes. The focus is on refining form\, consistency\, and endurance for higher-level tumbling. \nEarly Registration Pricing through April 17th\n6 classes- $145.50\n7 classes- $169.75\n8 classes- $194.00 \nRegular Pricing starting April 18th\n6 classes- $163.50\n7 classes- $190.75\n8 classes- $218.00 \n  \n 
URL:https://elevationcheerco.com/event/level-2/
CATEGORIES:Summer Classes
ATTACH;FMTTYPE=image/png:https://elevationcheerco.com/wp-content/uploads/2026/04/Level-2.png
END:VEVENT
BEGIN:VEVENT
DTSTART;TZID=UTC:20260601T000000
DTEND;TZID=UTC:20260730T000000
DTSTAMP:20260421T120336
CREATED:20260402T160112Z
LAST-MODIFIED:20260402T174746Z
UID:10000083-1780272000-1785369600@elevationcheerco.com
SUMMARY:Level 3\, 4 & 5-Ages 6 and up
DESCRIPTION:Over the summer we offer tumbling classes to fit every athlete’s schedule! Athletes will choose to attend 6\, 7 or 8 classes over the course of the summer. When registering\, athletes will sign up for the dates and times they plan to attend using our online customer portal. \nThis advanced class is geared toward experienced tumblers ready for elite progressions\, including tucks\, layouts\, fulls\, and specialty combinations. Athletes continue to strengthen technique\, body awareness\, and control for performance-level execution. \nEarly Registration Pricing through April 17th\n6 classes- $145.50\n7 classes- $169.75\n8 classes- $194.00 \nRegular Pricing starting April 18th\n6 classes- $163.50\n7 classes- $190.75\n8 classes- $218.00 \n  \n 
URL:https://elevationcheerco.com/event/level-3-4-5-ages-6-and-up/
CATEGORIES:Summer Classes
ATTACH;FMTTYPE=image/png:https://elevationcheerco.com/wp-content/uploads/2026/04/Level-345.png
END:VEVENT
END:VCALENDAR