BEGIN:VCALENDAR
VERSION:2.0
PRODID:-//Elevation Cheer Co. - ECPv6.15.20//NONSGML v1.0//EN
CALSCALE:GREGORIAN
METHOD:PUBLISH
X-WR-CALNAME:Elevation Cheer Co.
X-ORIGINAL-URL:https://elevationcheerco.com
X-WR-CALDESC:Events for Elevation Cheer Co.
REFRESH-INTERVAL;VALUE=DURATION:PT1H
X-Robots-Tag:noindex
X-PUBLISHED-TTL:PT1H
BEGIN:VTIMEZONE
TZID:UTC
BEGIN:STANDARD
TZOFFSETFROM:+0000
TZOFFSETTO:+0000
TZNAME:UTC
DTSTART:20250101T000000
END:STANDARD
END:VTIMEZONE
BEGIN:VEVENT
DTSTART;TZID=UTC:20260615T090000
DTEND;TZID=UTC:20260618T120000
DTSTAMP:20260425T145933
CREATED:20260401T183314Z
LAST-MODIFIED:20260401T183319Z
UID:10000069-1781514000-1781784000@elevationcheerco.com
SUMMARY:Cheer Camp-All Things Cheer
DESCRIPTION:Come jump\, tumble and stunt with us for a fun filled 4-day camp! This camp is open to rising 1st graders through rising 5th graders. Campers will learn a routine that they will perform on the last day of camp. \nActivities Include-\n-Stunting\n-Jumping\n-Tumbling\n-Dancing\n-Crafts \n  \n 
URL:https://elevationcheerco.com/event/cheer-camp-all-things-cheer/
CATEGORIES:Summer Camps
ATTACH;FMTTYPE=image/png:https://elevationcheerco.com/wp-content/uploads/2026/04/ATC-Cheer.png
END:VEVENT
END:VCALENDAR